BEGIN:VCALENDAR
VERSION:2.0
PRODID:Imitheme.com 
BEGIN:VEVENT
UID:20260421T093054864111542
DTSTAMP;TZID=UTC:2026-04-21 09:30:54
DTSTART;TZID=America/Los_Angeles:20260421T093054
DTEND;TZID=America/Los_Angeles:20260421T093054
SUMMARY:Culto
LOCATION:ABBA Church
DESCRIPTION:
URL:https://abbachurchoficial.com.br/eventer/culto/
END:VEVENT
END:VCALENDAR
